BEGIN:VCALENDAR
VERSION:2.0
PRODID:-//Library Market//iCal Export//EN
BEGIN:VEVENT
SUMMARY:Rainbow Magic Book Club
UID:86087
DTSTAMP:20260421T141600Z
DTSTART:20260623T190000Z
DTEND:20260623T200000Z
LOCATION:6 Monteith Drive, Farmington, CT 06032, United States
ROOM: Children&#039;s Program Room
DESCRIPTION:Join the magic with our Rainbow Magic Book Club! Every two wee
 ks we will read a different Rainbow Magic book and make a fun fairy craft!
  For the first meeting, books will be available to pick up at the Youth Se
 rvices desk for registrants starting two weeks before the event. June 23r
 d: Ruby the Red Fairy and Wand MakingJuly 7: Amber the Orange Fairy and Ti
 ara MakingJuly 21: Sunny the Yellow Fairy and Wing MakingAugust 4: Fern th
 e Green Fairy and Fairy Graduation! Registration Required. This program u
 ses Combined registration, if you register for one program, you register f
 or all of them! Open to those going into Grades 2-4.
URL:https://www.farmingtonlibraries.org/event/rainbow-magic-book-club-8608
 7
END:VEVENT
END:VCALENDAR
