BEGIN:VCALENDAR
VERSION:2.0
PRODID:-//Library Market//iCal Export//EN
BEGIN:VEVENT
SUMMARY:BSC Forever: A 40th Anniversary Celebration
UID:86066
DTSTAMP:20260421T141600Z
DTSTART:20260624T190000Z
DTEND:20260624T203000Z
LOCATION:71 Main St, Farmington, CT 06032, United States
ROOM: Hoppin Gallery
DESCRIPTION:Join us for BSC Forever: A 40th Anniversary Celebration a spec
 ial event program for adults and their tweens celebrating 40 years of fand
 om. Come together and celebrate everything you both love about The Baby-Si
 tters Club!Whichever books you read...The Baby-sitters Club (1986-1990 and
  2010) (graphic novels 2006-present)Baby-Sitters Little Sister (original s
 eries 1988-2000) (graphic novels 2020-present)The Kids in Ms. Colmans Clas
 s (1995-1998)California Diaries (1997-2000)Whichever series you watched...
 The Baby-Sitters Club (tv series 1990-1993)The Baby-Sitters Club (movie 19
 95)The Baby-Sitters Club (tv series 2020-2022)Enjoy snacks and activities 
 inspired by all eras of the series. For children in grades 2-6 along with 
 the BSC loving adult! Registration is required.   
URL:https://www.farmingtonlibraries.org/event/bsc-forever-40th-anniversary
 -celebration-86066
END:VEVENT
END:VCALENDAR
