BEGIN:VCALENDAR
VERSION:2.0
PRODID:-//Library Market//iCal Export//EN
BEGIN:VEVENT
SUMMARY:Weekend Wiggles!
UID:86010
DTSTAMP:20260421T141600Z
DTSTART:20260718T133000Z
DTEND:20260718T140000Z
LOCATION:6 Monteith Drive, Farmington, CT 06032, United States
ROOM: Jay Johnston Community Room
DESCRIPTION:Join us for this drop-in program! This high-energy music and m
 ovement class will have us dancing and laughing!  We&#039;ll start with a
  story and then move to the music with some parachute time at the end!Drop
  in, no registration required. Structured for infants/toddlers and prescho
 olers and their caregivers. 
URL:https://www.farmingtonlibraries.org/event/weekend-wiggles-86010
END:VEVENT
END:VCALENDAR
