BEGIN:VCALENDAR
VERSION:2.0
PRODID:-//Library Market//iCal Export//EN
BEGIN:VEVENT
SUMMARY:Family Dinner Movie Theater
UID:86007
DTSTAMP:20260421T123700Z
DTSTART:20260824T213000Z
DTEND:20260824T233000Z
LOCATION:6 Monteith Drive, Farmington, CT 06032, United States
ROOM: Jay Johnston Community Room
DESCRIPTION:Bring your dinner and join us for a free movie at Family Dinne
 r Movie Theater on the 4th Monday of each month! We&#039;ll provide the ta
 bles, chairs, and the movie on the big screen, you bring your dinner and s
 ome friends!August&#039;s Movie: The Super Mario Galaxy Movie (PG)Synopsis
 : Mario ventures into space, exploring cosmic worlds and tackling galacti
 c challenges far from the familiar Mushroom Kingdom.Register to save your 
 seat! Open to All Ages! 
URL:https://www.farmingtonlibraries.org/event/family-dinner-movie-theater-
 86007
END:VEVENT
END:VCALENDAR
