BEGIN:VCALENDAR
VERSION:2.0
PRODID:-//Library Market//iCal Export//EN
BEGIN:VEVENT
SUMMARY:Family Dinner Movie Theater
UID:86006
DTSTAMP:20260421T141600Z
DTSTART:20260727T213000Z
DTEND:20260727T233000Z
LOCATION:6 Monteith Drive, Farmington, CT 06032, United States
ROOM: Jay Johnston Community Room
DESCRIPTION:Bring your dinner and join us for a free movie at Family Dinne
 r Movie Theater on the 4th Monday of each month! We&#039;ll provide the ta
 bles, chairs, and the movie on the big screen, you bring your dinner and s
 ome friends!July&#039;s Movie: Hoppers (PG)Synopsis: Animal lover Mabel u
 ses clever new technology designed to &quot;hop&quot; human consciousness 
 into lifelike robotic animals to communicate with beavers, uncovering myst
 eries within the animal world beyond anything she could have imagined.Regi
 ster to save your seat! Open to All Ages! 
URL:https://www.farmingtonlibraries.org/event/family-dinner-movie-theater-
 86006
END:VEVENT
END:VCALENDAR
