BEGIN:VCALENDAR
VERSION:2.0
PRODID:-//Library Market//iCal Export//EN
BEGIN:VEVENT
SUMMARY:Family Dinner Movie Theater
UID:86005
DTSTAMP:20260421T141600Z
DTSTART:20260622T213000Z
DTEND:20260622T233000Z
LOCATION:6 Monteith Drive, Farmington, CT 06032, United States
ROOM: Jay Johnston Community Room
DESCRIPTION:Bring your dinner and join us for a free movie at Family Dinne
 r Movie Theater on the 4th Monday of each month! We&#039;ll provide the ta
 bles, chairs, and the movie on the big screen, you bring your dinner and s
 ome friends!June&#039;s Movie: Zootopia 2 (PG)Synopsis: Brave rabbit cop 
 Judy Hopps and her friend, the fox Nick Wilde, team up again to crack a ne
 w case, the most perilous and intricate of their careers.Register to save 
 your seat! Open to All Ages! 
URL:https://www.farmingtonlibraries.org/event/family-dinner-movie-theater-
 86005
END:VEVENT
END:VCALENDAR
