BEGIN:VCALENDAR
VERSION:2.0
PRODID:-//Library Market//iCal Export//EN
BEGIN:VEVENT
SUMMARY:Summer Science!
UID:85994
DTSTAMP:20260422T050600Z
DTSTART:20260625T180000Z
DTEND:20260625T190000Z
LOCATION:6 Monteith Drive, Farmington, CT 06032, United States
ROOM: Children&#039;s Program Room
DESCRIPTION:Join FHS Senior Geethika Samineni for an hour of fun summer sc
 ience! Learn about a scientific concept and then put it in action in this 
 fun series.June 25: Density ColumnsJuly 9: Marshmallow BridgesJuly 23: Ast
 ronomyAugust 6: Invisible InkRegistration Required. Register for the sessi
 ons you want to go to! Open to those going into Grades 4-6. 
URL:https://www.farmingtonlibraries.org/event/summer-science-85994
END:VEVENT
END:VCALENDAR
