BEGIN:VCALENDAR
VERSION:2.0
PRODID:-//Library Market//iCal Export//EN
BEGIN:VEVENT
SUMMARY:Learn to Play Free Play
UID:85747
DTSTAMP:20260421T141600Z
DTSTART:20260611T220000Z
DTEND:20260611T233000Z
LOCATION:6 Monteith Drive, Farmington, CT 06032, United States
ROOM: Meeting Room 1
DESCRIPTION:Do you love board games? Need people to play with? Curious but
  don&#039;t know where to start? Join us for some free play board game tim
 e! We will have select board games out to play, but feel free to bring you
 r own and teach others.Register to save your seat! Open to those ages 12 a
 nd up!
URL:https://www.farmingtonlibraries.org/event/learn-play-free-play-85747
END:VEVENT
END:VCALENDAR
