BEGIN:VCALENDAR
VERSION:2.0
PRODID:-//Library Market//iCal Export//EN
BEGIN:VEVENT
SUMMARY:Wacky Wednesday: Jason Tardy
UID:84298
DTSTAMP:20260421T154000Z
DTSTART:20260729T223000Z
DTEND:20260729T233000Z
LOCATION:6 Monteith Drive, Farmington, CT 06032, United States
ROOM: Jay Johnston Community Room
DESCRIPTION:“A Master of Physical Comedy!” Come see Jason Tardy and hi
 s crazy high-energy, comedy and juggling show like you’ve never seen bef
 ore…unless you’ve seen him before. His hilarious show includes innovat
 ive choreographed juggling to up-beat music, fitting his body through a te
 nnis racket, balancing a ladder on his face, standing on a yoga ball, and 
 more! Open to All Ages! Registration Required! 
URL:https://www.farmingtonlibraries.org/event/wacky-wednesday-84298
END:VEVENT
END:VCALENDAR
