BEGIN:VCALENDAR
VERSION:2.0
PRODID:-//Library Market//iCal Export//EN
BEGIN:VEVENT
SUMMARY:Wacky Wednesday: All About Opossums!
UID:84297
DTSTAMP:20260421T154000Z
DTSTART:20260722T223000Z
DTEND:20260722T233000Z
LOCATION:6 Monteith Drive, Farmington, CT 06032, United States
ROOM: Jay Johnston Community Room
DESCRIPTION:Join Bill and Pamela from Ferncroft Wildlife Rescue to learn a
 ll about opossums! They will talk about wildlife rehabilitation and opossu
 m development. There will be time for Q+A and even a meet and greet with s
 ome opossums!    Open to All Ages! Registration Required! 
URL:https://www.farmingtonlibraries.org/event/wacky-wednesday-84297
END:VEVENT
END:VCALENDAR
