BEGIN:VCALENDAR
VERSION:2.0
PRODID:-//Library Market//iCal Export//EN
BEGIN:VEVENT
SUMMARY:Wacky Wednesday: Magical Michael OJ
UID:84295
DTSTAMP:20260421T154000Z
DTSTART:20260708T223000Z
DTEND:20260708T233000Z
LOCATION:6 Monteith Drive, Farmington, CT 06032, United States
ROOM: Jay Johnston Community Room
DESCRIPTION:Come to the Farmington Libraries this Wacky Wednesday for an a
 mazing magic show! Join the very Magical Michael OJ for a show full of tri
 cks and magic--you won&#039;t want to miss this one!Open to All Ages! Regi
 stration Required! 
URL:https://www.farmingtonlibraries.org/event/wacky-wednesday-84295
END:VEVENT
END:VCALENDAR
